BEGIN:VCALENDAR
VERSION:2.0
PRODID:-//conftool/conftoolAgenda//NONSGML v1.0//EN
CALSCALE:GREGORIAN
METHOD:PUBLISH
X-MS-OLK-FORCEINSPECTOROPEN:TRUE
X-WR-TIMEZONE:America/New_York
BEGIN:VTIMEZONE
TZID:America/New_York
LAST-MODIFIED:20260425T150438Z
X-MICROSOFT-CDO-TZID:10
BEGIN:DAYLIGHT
DTSTART:20260308T070000
TZOFFSETFROM:-500
TZOFFSETTO:-400
TZNAME:EDT
END:DAYLIGHT
BEGIN:STANDARD
DTSTART:20261101T060000
TZOFFSETFROM:-400
TZOFFSETTO:-500
TZNAME:EST
END:STANDARD
END:VTIMEZONE
BEGIN:VEVENT
UID:90ed1ba241e8d83d744ca713b5ea7d7b0d
DTSTAMP:20260425T150438
DTSTART;TZID=America/New_York:20260609T173000
DTEND;TZID=America/New_York:20260609T190000
LOCATION:
SUMMARY:Posters A: Poster Session A | IBANGS 2026
DESCRIPTION:https://www.conftool.pro/ibangs2026/index.php?page=browseSessions&form_session=90&presentations=show
BEGIN:VALARM
TRIGGER:-PT0M
ACTION:DISPLAY
DESCRIPTION:Posters A: Poster Session A | IBANGS 2026
REPEAT:0
END:VALARM
END:VEVENT
END:VCALENDAR
