BEGIN:VCALENDAR
VERSION:2.0
PRODID:-//conftool/conftoolAgenda//NONSGML v1.0//EN
CALSCALE:GREGORIAN
METHOD:PUBLISH
X-MS-OLK-FORCEINSPECTOROPEN:TRUE
X-WR-TIMEZONE:America/New_York
BEGIN:VTIMEZONE
TZID:America/New_York
LAST-MODIFIED:20260425T150008Z
X-MICROSOFT-CDO-TZID:10
BEGIN:DAYLIGHT
DTSTART:20260308T070000
TZOFFSETFROM:-500
TZOFFSETTO:-400
TZNAME:EDT
END:DAYLIGHT
BEGIN:STANDARD
DTSTART:20261101T060000
TZOFFSETFROM:-400
TZOFFSETTO:-500
TZNAME:EST
END:STANDARD
END:VTIMEZONE
BEGIN:VEVENT
UID:6193c7353625443b31749d47bc42c93cb2
DTSTAMP:20260425T150008
DTSTART;TZID=America/New_York:20260610T103000
DTEND;TZID=America/New_York:20260610T123000
LOCATION:
SUMMARY:Symposium 3: Dissecting the Development of Opioid Use Disorder Using Cross-species Systems Genetics Approaches | IBANGS 2026
DESCRIPTION:https://www.conftool.pro/ibangs2026/index.php?page=browseSessions&form_session=61&presentations=show
BEGIN:VALARM
TRIGGER:-PT0M
ACTION:DISPLAY
DESCRIPTION:Symposium 3: Dissecting the Development of Opioid Use Disorder Using Cross-species Systems Genetics Approaches | IBANGS 2026
REPEAT:0
END:VALARM
END:VEVENT
END:VCALENDAR
