BEGIN:VCALENDAR
VERSION:2.0
PRODID:-//conftool/conftoolAgenda//NONSGML v1.0//EN
CALSCALE:GREGORIAN
METHOD:PUBLISH
X-MS-OLK-FORCEINSPECTOROPEN:TRUE
X-WR-TIMEZONE:Europe/Berlin
BEGIN:VTIMEZONE
TZID:Europe/Berlin
LAST-MODIFIED:20260424T185117Z
X-MICROSOFT-CDO-TZID:4
BEGIN:DAYLIGHT
DTSTART:20260329T010000
TZOFFSETFROM:+0100
TZOFFSETTO:+0200
TZNAME:CEST
END:DAYLIGHT
BEGIN:STANDARD
DTSTART:20261025T010000
TZOFFSETFROM:+0200
TZOFFSETTO:+0100
TZNAME:CET
END:STANDARD
END:VTIMEZONE
BEGIN:VEVENT
UID:38cf002a2d462a40b58c626dda68960e9e
DTSTAMP:20260424T185117
DTSTART;TZID=Europe/Berlin:20260608T084500
DTEND;TZID=Europe/Berlin:20260608T090000
LOCATION:Helmholtz Munich Campus
SUMMARY:Welcome | HAICON26
DESCRIPTION:https://www.conftool.pro/haicon26/index.php?page=browseSessions&form_session=38&presentations=show
BEGIN:VALARM
TRIGGER:-PT0M
ACTION:DISPLAY
DESCRIPTION:Welcome | HAICON26
REPEAT:0
END:VALARM
END:VEVENT
END:VCALENDAR
