BEGIN:VCALENDAR
VERSION:2.0
PRODID:-//conftool/conftoolAgenda//NONSGML v1.0//EN
CALSCALE:GREGORIAN
METHOD:PUBLISH
X-MS-OLK-FORCEINSPECTOROPEN:TRUE
X-WR-TIMEZONE:Europe/Amsterdam
BEGIN:VTIMEZONE
TZID:Europe/Amsterdam
LAST-MODIFIED:20260421T105008Z
BEGIN:STANDARD
DTSTART:20251026T010000
TZOFFSETFROM:+0200
TZOFFSETTO:+0100
TZNAME:CET
END:STANDARD
BEGIN:DAYLIGHT
DTSTART:20260329T010000
TZOFFSETFROM:+0100
TZOFFSETTO:+0200
TZNAME:CEST
END:DAYLIGHT
END:VTIMEZONE
BEGIN:VEVENT
UID:23c475c8604a39b2ff960cdc6b46a7a144
DTSTAMP:20260421T105008
DTSTART;TZID=Europe/Amsterdam:20260305T110000
DTEND;TZID=Europe/Amsterdam:20260305T123000
LOCATION:Aula
SUMMARY:Combining multi-scale\, multi-mission EO data for closing the temporal and spatial gap | FLEX-Fluorescence Workshop 2026
DESCRIPTION:https://www.conftool.pro/flex-fluorescence-workshop-2026/index.php?page=browseSessions&form_session=23&presentations=show
BEGIN:VALARM
TRIGGER:-PT0M
ACTION:DISPLAY
DESCRIPTION:Combining multi-scale\, multi-mission EO data for closing the temporal and spatial gap | FLEX-Fluorescence Workshop 2026
REPEAT:0
END:VALARM
END:VEVENT
END:VCALENDAR
