BEGIN:VCALENDAR
VERSION:2.0
PRODID:-//conftool/conftoolAgenda//NONSGML v1.0//EN
CALSCALE:GREGORIAN
METHOD:PUBLISH
X-MS-OLK-FORCEINSPECTOROPEN:TRUE
X-WR-TIMEZONE:Europe/Amsterdam
BEGIN:VTIMEZONE
TZID:Europe/Amsterdam
LAST-MODIFIED:20260421T105115Z
BEGIN:STANDARD
DTSTART:20251026T010000
TZOFFSETFROM:+0200
TZOFFSETTO:+0100
TZNAME:CET
END:STANDARD
BEGIN:DAYLIGHT
DTSTART:20260329T010000
TZOFFSETFROM:+0100
TZOFFSETTO:+0200
TZNAME:CEST
END:DAYLIGHT
END:VTIMEZONE
BEGIN:VEVENT
UID:1584e92bc028a73d13acd8b98e95e09a8c
DTSTAMP:20260421T105115
DTSTART;TZID=Europe/Amsterdam:20260304T151500
DTEND;TZID=Europe/Amsterdam:20260304T160000
LOCATION:Aula
SUMMARY:Thinking beyond state-of-art: novel applications for FLEX data | FLEX-Fluorescence Workshop 2026
DESCRIPTION:https://www.conftool.pro/flex-fluorescence-workshop-2026/index.php?page=browseSessions&form_session=15&presentations=show
BEGIN:VALARM
TRIGGER:-PT0M
ACTION:DISPLAY
DESCRIPTION:Thinking beyond state-of-art: novel applications for FLEX data | FLEX-Fluorescence Workshop 2026
REPEAT:0
END:VALARM
END:VEVENT
END:VCALENDAR
