BEGIN:VCALENDAR
VERSION:2.0
PRODID:-//conftool/conftoolAgenda//NONSGML v1.0//EN
CALSCALE:GREGORIAN
METHOD:PUBLISH
X-MS-OLK-FORCEINSPECTOROPEN:TRUE
X-WR-TIMEZONE:Europe/Paris
BEGIN:VTIMEZONE
TZID:Europe/Paris
LAST-MODIFIED:20260422T123916Z
X-MICROSOFT-CDO-TZID:3
BEGIN:DAYLIGHT
DTSTART:20250330T010000
TZOFFSETFROM:+0100
TZOFFSETTO:+0200
TZNAME:CEST
END:DAYLIGHT
BEGIN:STANDARD
DTSTART:20251026T010000
TZOFFSETFROM:+0200
TZOFFSETTO:+0100
TZNAME:CET
END:STANDARD
END:VTIMEZONE
BEGIN:VEVENT
UID:70489347d8de395337368b3fb5e3e4cbb1
DTSTAMP:20260422T123916
DTSTART;TZID=Europe/Paris:20250602T171500
DTEND;TZID=Europe/Paris:20250602T181500
LOCATION:Fondation Biermans-Lapôtre (Cité Universitaire)
SUMMARY:Plenary 2: Global South: Plenary 2: Panel Discussion on Global South | ARCS 2025
DESCRIPTION:Sylvie Lemmet (French Ambassador for the Environment)\, Gregoire Lurton (CDO\, Bluesquare)\, Bouchra Rahmouni (UMP6)\nhttps://www.conftool.pro/arcs2025/index.php?page=browseSessions&form_session=70&presentations=show
BEGIN:VALARM
TRIGGER:-PT0M
ACTION:DISPLAY
DESCRIPTION:Plenary 2: Global South: Plenary 2: Panel Discussion on Global South | ARCS 2025
REPEAT:0
END:VALARM
END:VEVENT
END:VCALENDAR
