BEGIN:VCALENDAR
VERSION:2.0
PRODID:-//conftool/conftoolAgenda//NONSGML v1.0//EN
CALSCALE:GREGORIAN
METHOD:PUBLISH
X-MS-OLK-FORCEINSPECTOROPEN:TRUE
X-WR-TIMEZONE:Europe/Paris
BEGIN:VTIMEZONE
TZID:Europe/Paris
LAST-MODIFIED:20260422T122139Z
X-MICROSOFT-CDO-TZID:3
BEGIN:DAYLIGHT
DTSTART:20250330T010000
TZOFFSETFROM:+0100
TZOFFSETTO:+0200
TZNAME:CEST
END:DAYLIGHT
BEGIN:STANDARD
DTSTART:20251026T010000
TZOFFSETFROM:+0200
TZOFFSETTO:+0100
TZNAME:CET
END:STANDARD
END:VTIMEZONE
BEGIN:VEVENT
UID:574af78da1f8a35049af221fab2ff07e9e
DTSTAMP:20260422T122139
DTSTART;TZID=Europe/Paris:20250601T140000
DTEND;TZID=Europe/Paris:20250601T170000
LOCATION:Association HEC
SUMMARY:PhD Workshop (Invite Only): PhD Development Session (Pre-selected Attendees) | ARCS 2025
DESCRIPTION:https://www.conftool.pro/arcs2025/index.php?page=browseSessions&form_session=57&presentations=show
BEGIN:VALARM
TRIGGER:-PT0M
ACTION:DISPLAY
DESCRIPTION:PhD Workshop (Invite Only): PhD Development Session (Pre-selected Attendees) | ARCS 2025
REPEAT:0
END:VALARM
END:VEVENT
END:VCALENDAR
