BEGIN:VCALENDAR
VERSION:2.0
PRODID:-//conftool/conftoolAgenda//NONSGML v1.0//EN
CALSCALE:GREGORIAN
METHOD:PUBLISH
X-MS-OLK-FORCEINSPECTOROPEN:TRUE
X-WR-TIMEZONE:Europe/Paris
BEGIN:VTIMEZONE
TZID:Europe/Paris
LAST-MODIFIED:20260422T122047Z
X-MICROSOFT-CDO-TZID:3
BEGIN:DAYLIGHT
DTSTART:20250330T010000
TZOFFSETFROM:+0100
TZOFFSETTO:+0200
TZNAME:CEST
END:DAYLIGHT
BEGIN:STANDARD
DTSTART:20251026T010000
TZOFFSETFROM:+0200
TZOFFSETTO:+0100
TZNAME:CET
END:STANDARD
END:VTIMEZONE
BEGIN:VEVENT
UID:557497bd4a2ac38c20333f7d3c9d7e4a76
DTSTAMP:20260422T122047
DTSTART;TZID=Europe/Paris:20250603T190000
DTEND;TZID=Europe/Paris:20250603T220000
LOCATION:Le Comptoir Général
SUMMARY:Dinner: Comptoir Général | ARCS 2025
DESCRIPTION:Cocktail dinner with music & dancing\nhttps://www.conftool.pro/arcs2025/index.php?page=browseSessions&form_session=55&presentations=show
BEGIN:VALARM
TRIGGER:-PT0M
ACTION:DISPLAY
DESCRIPTION:Dinner: Comptoir Général | ARCS 2025
REPEAT:0
END:VALARM
END:VEVENT
END:VCALENDAR
