BEGIN:VCALENDAR
VERSION:2.0
PRODID:-//conftool/conftoolAgenda//NONSGML v1.0//EN
CALSCALE:GREGORIAN
METHOD:PUBLISH
X-MS-OLK-FORCEINSPECTOROPEN:TRUE
X-WR-TIMEZONE:Europe/Paris
BEGIN:VTIMEZONE
TZID:Europe/Paris
LAST-MODIFIED:20260422T122108Z
X-MICROSOFT-CDO-TZID:3
BEGIN:DAYLIGHT
DTSTART:20250330T010000
TZOFFSETFROM:+0100
TZOFFSETTO:+0200
TZNAME:CEST
END:DAYLIGHT
BEGIN:STANDARD
DTSTART:20251026T010000
TZOFFSETFROM:+0200
TZOFFSETTO:+0100
TZNAME:CET
END:STANDARD
END:VTIMEZONE
BEGIN:VEVENT
UID:4575c9f85106d305b5541139930669d2b7
DTSTAMP:20260422T122108
DTSTART;TZID=Europe/Paris:20250602T090000
DTEND;TZID=Europe/Paris:20250602T100000
LOCATION:Fondation Biermans-Lapôtre (Cité Universitaire)
SUMMARY:ARCS Plenary: Plenary 1: The past\, present\, and future of ARCS | ARCS 2025
DESCRIPTION:Glen Dowell (Cornell Johnson College of Business)\, Aline Gatignon (The Wharton School)\, Maurizio Zollo (Imperial College Business School)\, Yuxia Zou (Nanyang Technological University)\nhttps://www.conftool.pro/arcs2025/index.php?page=browseSessions&form_session=45&presentations=show
BEGIN:VALARM
TRIGGER:-PT0M
ACTION:DISPLAY
DESCRIPTION:ARCS Plenary: Plenary 1: The past\, present\, and future of ARCS | ARCS 2025
REPEAT:0
END:VALARM
END:VEVENT
END:VCALENDAR
