BEGIN:VCALENDAR
VERSION:2.0
PRODID:-//conftool/conftoolAgenda//NONSGML v1.0//EN
CALSCALE:GREGORIAN
METHOD:PUBLISH
X-MS-OLK-FORCEINSPECTOROPEN:TRUE
X-WR-TIMEZONE:Europe/Paris
BEGIN:VTIMEZONE
TZID:Europe/Paris
LAST-MODIFIED:20260422T122054Z
X-MICROSOFT-CDO-TZID:3
BEGIN:DAYLIGHT
DTSTART:20250330T010000
TZOFFSETFROM:+0100
TZOFFSETTO:+0200
TZNAME:CEST
END:DAYLIGHT
BEGIN:STANDARD
DTSTART:20251026T010000
TZOFFSETFROM:+0200
TZOFFSETTO:+0100
TZNAME:CET
END:STANDARD
END:VTIMEZONE
BEGIN:VEVENT
UID:30ca8f80b1c75fd3cd0e9deb691ce79e5c
DTSTAMP:20260422T122054
DTSTART;TZID=Europe/Paris:20250603T151500
DTEND;TZID=Europe/Paris:20250603T163000
LOCATION:Fondation Biermans-Lapôtre (Cité Universitaire)
SUMMARY:11: Market Performance: Parallel Session 11: Market Performance | ARCS 2025
DESCRIPTION:https://www.conftool.pro/arcs2025/index.php?page=browseSessions&form_session=30&presentations=show
BEGIN:VALARM
TRIGGER:-PT0M
ACTION:DISPLAY
DESCRIPTION:11: Market Performance: Parallel Session 11: Market Performance | ARCS 2025
REPEAT:0
END:VALARM
END:VEVENT
END:VCALENDAR
