BEGIN:VCALENDAR
VERSION:2.0
PRODID:-//conftool/conftoolAgenda//NONSGML v1.0//EN
CALSCALE:GREGORIAN
METHOD:PUBLISH
X-MS-OLK-FORCEINSPECTOROPEN:TRUE
X-WR-TIMEZONE:Europe/Paris
BEGIN:VTIMEZONE
TZID:Europe/Paris
LAST-MODIFIED:20260422T123245Z
X-MICROSOFT-CDO-TZID:3
BEGIN:DAYLIGHT
DTSTART:20250330T010000
TZOFFSETFROM:+0100
TZOFFSETTO:+0200
TZNAME:CEST
END:DAYLIGHT
BEGIN:STANDARD
DTSTART:20251026T010000
TZOFFSETFROM:+0200
TZOFFSETTO:+0100
TZNAME:CET
END:STANDARD
END:VTIMEZONE
BEGIN:VEVENT
UID:2778ebdb356ff457465b2d9a3846323013
DTSTAMP:20260422T123245
DTSTART;TZID=Europe/Paris:20250602T131500
DTEND;TZID=Europe/Paris:20250602T143000
LOCATION:Fondation Biermans-Lapôtre (Cité Universitaire)
SUMMARY:3: Ethics and Inclusion: Parallel Session 3: Ethics and Inclusion | ARCS 2025
DESCRIPTION:https://www.conftool.pro/arcs2025/index.php?page=browseSessions&form_session=27&presentations=show
BEGIN:VALARM
TRIGGER:-PT0M
ACTION:DISPLAY
DESCRIPTION:3: Ethics and Inclusion: Parallel Session 3: Ethics and Inclusion | ARCS 2025
REPEAT:0
END:VALARM
END:VEVENT
END:VCALENDAR
