BEGIN:VCALENDAR
VERSION:2.0
PRODID:-//conftool/conftoolAgenda//NONSGML v1.0//EN
CALSCALE:GREGORIAN
METHOD:PUBLISH
X-MS-OLK-FORCEINSPECTOROPEN:TRUE
X-WR-TIMEZONE:Europe/Paris
BEGIN:VTIMEZONE
TZID:Europe/Paris
LAST-MODIFIED:20260422T123352Z
X-MICROSOFT-CDO-TZID:3
BEGIN:DAYLIGHT
DTSTART:20250330T010000
TZOFFSETFROM:+0100
TZOFFSETTO:+0200
TZNAME:CEST
END:DAYLIGHT
BEGIN:STANDARD
DTSTART:20251026T010000
TZOFFSETFROM:+0200
TZOFFSETTO:+0100
TZNAME:CET
END:STANDARD
END:VTIMEZONE
BEGIN:VEVENT
UID:1e80e6a3d5fc0caab8bca352c3343d33d
DTSTAMP:20260422T123352
DTSTART;TZID=Europe/Paris:20250602T110000
DTEND;TZID=Europe/Paris:20250602T121500
LOCATION:Fondation Biermans-Lapôtre (Cité Universitaire)
SUMMARY:1: Local Communities 1: Parallel Session 1: Local Communities 1 | ARCS 2025
DESCRIPTION:https://www.conftool.pro/arcs2025/index.php?page=browseSessions&form_session=1&presentations=show
BEGIN:VALARM
TRIGGER:-PT0M
ACTION:DISPLAY
DESCRIPTION:1: Local Communities 1: Parallel Session 1: Local Communities 1 | ARCS 2025
REPEAT:0
END:VALARM
END:VEVENT
END:VCALENDAR
